BEGIN:VCALENDAR
VERSION:2.0
PRODID:-//Bulldogs Wrestling Club - ECPv6.15.16//NONSGML v1.0//EN
CALSCALE:GREGORIAN
METHOD:PUBLISH
X-WR-CALNAME:Bulldogs Wrestling Club
X-ORIGINAL-URL:https://www.sibulldogs.com
X-WR-CALDESC:Events for Bulldogs Wrestling Club
REFRESH-INTERVAL;VALUE=DURATION:PT1H
X-Robots-Tag:noindex
X-PUBLISHED-TTL:PT1H
BEGIN:VTIMEZONE
TZID:UTC
BEGIN:STANDARD
TZOFFSETFROM:+0000
TZOFFSETTO:+0000
TZNAME:UTC
DTSTART:20250101T000000
END:STANDARD
END:VTIMEZONE
BEGIN:VEVENT
DTSTART;TZID=UTC:20260323T180000
DTEND;TZID=UTC:20260603T180000
DTSTAMP:20260420T130521
CREATED:20260226T161319Z
LAST-MODIFIED:20260226T161319Z
UID:6083-1774288800-1780509600@www.sibulldogs.com
SUMMARY:Southern Illinois Bulldogs Wrestling Club Off-Season Wrestling
DESCRIPTION:OFFERING FOLKSTYLE\, FREESTYLE\, AND GRECO-ROMAN \nAGES 8+ AND AT LEAST 2 YEARS OF WRESTLING EXPERIENCE FOR FREESTYLE AND GRECO
URL:https://www.sibulldogs.com/event/southern-illinois-bulldogs-wrestling-club-off-season-wrestling/
LOCATION:Battlebarn\, 1107 S. Main St.\, Red Bud\, IL\, 62278\, United States
CATEGORIES:Featured Events
END:VEVENT
BEGIN:VEVENT
DTSTART;TZID=UTC:20260425T130000
DTEND;TZID=UTC:20260425T180000
DTSTAMP:20260420T130521
CREATED:20260226T160801Z
LAST-MODIFIED:20260227T142337Z
UID:6076-1777122000-1777140000@www.sibulldogs.com
SUMMARY:Southern Illinois Bulldogs Wrestling 4-Person Scramble
DESCRIPTION:  \n  \n  \n  \nGolf tournament 2026 \n  \n  \n  \n  \n 
URL:https://www.sibulldogs.com/event/southern-illinois-bulldogs-wrestling-4-person-scramble/
LOCATION:Acorns Golf Course\, 3933 Ahne Road\, Waterloo\, IL\, 62298\, United States
CATEGORIES:Featured Events,Fundraisers
END:VEVENT
END:VCALENDAR